BEGIN:VCALENDAR
VERSION:2.0
PRODID:icalendar-ruby
CALSCALE:GREGORIAN
METHOD:PUBLISH
BEGIN:VEVENT
DTSTAMP:20260425T163137Z
UID:116-2625136@stpaulsmission.ca
DTSTART:20260917T020000Z
DTEND:20260917T030000Z
CLASS:PUBLIC
CREATED:20260425T082440
DESCRIPTION:Narcotics Anonymous meets every Sunday and Wednesday in the chu
 rch lounge. Social distancing and extra cleaning measures are currently in
  place.
LAST-MODIFIED:20260425T082440
LOCATION:St. Paul's 
SUMMARY:Narcotics Anonymous
URL;VALUE=URI:https://www.stpaulsmission.ca/events/narcotics-anonymous--116
 /2026-09-16
END:VEVENT
END:VCALENDAR
