BEGIN:VCALENDAR
VERSION:2.0
PRODID:icalendar-ruby
CALSCALE:GREGORIAN
METHOD:PUBLISH
BEGIN:VEVENT
DTSTAMP:20260425T194644Z
UID:116-2626152@stpaulsmission.ca
DTSTART:20261008T020000Z
DTEND:20261008T030000Z
CLASS:PUBLIC
CREATED:20260425T110439
DESCRIPTION:Narcotics Anonymous meets every Sunday and Wednesday in the chu
 rch lounge. Social distancing and extra cleaning measures are currently in
  place.
LAST-MODIFIED:20260425T110439
LOCATION:St. Paul's 
SUMMARY:Narcotics Anonymous
URL;VALUE=URI:https://www.stpaulsmission.ca/events/narcotics-anonymous--116
 /2026-10-07
END:VEVENT
END:VCALENDAR
