BEGIN:VCALENDAR
VERSION:2.0
PRODID:icalendar-ruby
CALSCALE:GREGORIAN
METHOD:PUBLISH
BEGIN:VEVENT
DTSTAMP:20260420T033423Z
UID:82-2590501@stpaulsmission.ca
DTSTART:20260831T020000Z
DTEND:20260831T030000Z
CLASS:PUBLIC
CREATED:20260419T175148
DESCRIPTION:Narcotics Anonymous meets every Sunday and Wednesday in the chu
 rch lounge. Social distancing and extra cleaning measures are currently in
  place.
LAST-MODIFIED:20260419T175148
LOCATION:St. Paul's Church
SUMMARY:Narcotics Anonymous
URL;VALUE=URI:https://www.stpaulsmission.ca/events/narcotics-anonymous/2026
 -08-30
END:VEVENT
END:VCALENDAR
