BEGIN:VCALENDAR
VERSION:2.0
PRODID:icalendar-ruby
CALSCALE:GREGORIAN
METHOD:PUBLISH
BEGIN:VEVENT
DTSTAMP:20260420T073602Z
UID:82-2591515@stpaulsmission.ca
DTSTART:20260921T020000Z
DTEND:20260921T030000Z
CLASS:PUBLIC
CREATED:20260419T212839
DESCRIPTION:Narcotics Anonymous meets every Sunday and Wednesday in the chu
 rch lounge. Social distancing and extra cleaning measures are currently in
  place.
LAST-MODIFIED:20260419T212839
LOCATION:St. Paul's Church
SUMMARY:Narcotics Anonymous
URL;VALUE=URI:https://www.stpaulsmission.ca/events/narcotics-anonymous/2026
 -09-20
END:VEVENT
END:VCALENDAR
