BEGIN:VCALENDAR
VERSION:2.0
PRODID:icalendar-ruby
CALSCALE:GREGORIAN
METHOD:PUBLISH
BEGIN:VEVENT
DTSTAMP:20260420T112823Z
UID:82-2592530@stpaulsmission.ca
DTSTART:20261012T020000Z
DTEND:20261012T030000Z
CLASS:PUBLIC
CREATED:20260420T030158
DESCRIPTION:Narcotics Anonymous meets every Sunday and Wednesday in the chu
 rch lounge. Social distancing and extra cleaning measures are currently in
  place.
LAST-MODIFIED:20260420T030158
LOCATION:St. Paul's Church
SUMMARY:Narcotics Anonymous
URL;VALUE=URI:https://www.stpaulsmission.ca/events/narcotics-anonymous/2026
 -10-11
END:VEVENT
END:VCALENDAR
