BEGIN:VCALENDAR
VERSION:2.0
PRODID:icalendar-ruby
CALSCALE:GREGORIAN
METHOD:PUBLISH
BEGIN:VEVENT
DTSTAMP:20260420T152734Z
UID:82-2594557@stpaulsmission.ca
DTSTART:20261102T030000Z
DTEND:20261102T040000Z
CLASS:PUBLIC
CREATED:20260420T081115
DESCRIPTION:Narcotics Anonymous meets every Sunday and Wednesday in the chu
 rch lounge. Social distancing and extra cleaning measures are currently in
  place.
LAST-MODIFIED:20260420T081115
LOCATION:St. Paul's Church
SUMMARY:Narcotics Anonymous
URL;VALUE=URI:https://www.stpaulsmission.ca/events/narcotics-anonymous/2026
 -11-01
END:VEVENT
END:VCALENDAR
